Package: Cogito Version: 1.12.0 Command: /Library/Frameworks/R.framework/Resources/bin/R CMD INSTALL Cogito StartedAt: 2025-02-03 16:06:03 -0500 (Mon, 03 Feb 2025) EndedAt: 2025-02-03 16:07:19 -0500 (Mon, 03 Feb 2025) EllapsedTime: 76.6 seconds RetCode: 0 Status: OK