Package: Cogito Version: 1.12.0 Command: /home/biocbuild/bbs-3.20-bioc/R/bin/R CMD check --install=check:Cogito.install-out.txt --library=/home/biocbuild/bbs-3.20-bioc/R/site-library --timings Cogito_1.12.0.tar.gz StartedAt: 2025-02-03 21:10:29 -0500 (Mon, 03 Feb 2025) EndedAt: 2025-02-03 21:15:18 -0500 (Mon, 03 Feb 2025) EllapsedTime: 289.2 seconds RetCode: 0 Status: OK CheckDir: Cogito.Rcheck Warnings: 0