Package: Cogito
Version: 1.11.0
Command: chmod a+r Cogito -R && C:\Users\biocbuild\bbs-3.20-bioc\R\bin\R.exe CMD build --keep-empty-dirs --no-resave-data Cogito
StartedAt: 2024-07-15 17:13:09 -0400 (Mon, 15 Jul 2024)
EndedAt: 2024-07-15 17:14:33 -0400 (Mon, 15 Jul 2024)
EllapsedTime: 84.5 seconds
RetCode: 0
Status: OK
PackageFile: Cogito_1.11.0.tar.gz
PackageFileSize: 869 <A href="http://en.wikipedia.org/wiki/KiB" target="_blank">KiB</A>