Package: Cogito Version: 1.12.0 Command: chmod a+r Cogito -R && F:\biocbuild\bbs-3.20-bioc\R\bin\R.exe CMD build --keep-empty-dirs --no-resave-data Cogito StartedAt: 2025-02-03 18:16:17 -0500 (Mon, 03 Feb 2025) EndedAt: 2025-02-03 18:17:39 -0500 (Mon, 03 Feb 2025) EllapsedTime: 82.7 seconds RetCode: 0 Status: OK PackageFile: Cogito_1.12.0.tar.gz PackageFileSize: 869 KiB