Package: Cogito Version: 1.12.0 Command: F:\biocbuild\bbs-3.20-bioc\R\bin\R.exe CMD check --no-multiarch --install=check:Cogito.install-out.txt --library=F:\biocbuild\bbs-3.20-bioc\R\library --no-vignettes --timings Cogito_1.12.0.tar.gz StartedAt: 2025-02-04 00:30:36 -0500 (Tue, 04 Feb 2025) EndedAt: 2025-02-04 00:36:18 -0500 (Tue, 04 Feb 2025) EllapsedTime: 341.8 seconds RetCode: 0 Status: OK CheckDir: Cogito.Rcheck Warnings: 0