Package: Cogito Version: 1.12.0 Command: /home/biocbuild/R/R/bin/R CMD build --keep-empty-dirs --no-resave-data Cogito StartedAt: 2025-02-03 22:44:32 -0000 (Mon, 03 Feb 2025) EndedAt: 2025-02-03 22:45:57 -0000 (Mon, 03 Feb 2025) EllapsedTime: 85.0 seconds RetCode: 0 Status: OK PackageFile: Cogito_1.12.0.tar.gz PackageFileSize: 892.8 KiB