Package: Cogito Version: 1.12.0 Command: /home/biocbuild/R/R/bin/R CMD INSTALL Cogito StartedAt: 2025-02-03 20:57:24 -0000 (Mon, 03 Feb 2025) EndedAt: 2025-02-03 20:58:09 -0000 (Mon, 03 Feb 2025) EllapsedTime: 45.6 seconds RetCode: 0 Status: OK