Package: ComplexHeatmap Version: 2.22.0 Command: /Library/Frameworks/R.framework/Resources/bin/R CMD INSTALL ComplexHeatmap StartedAt: 2025-02-13 16:24:26 -0500 (Thu, 13 Feb 2025) EndedAt: 2025-02-13 16:24:51 -0500 (Thu, 13 Feb 2025) EllapsedTime: 25.1 seconds RetCode: 0 Status: OK