Package: ComplexHeatmap Version: 2.22.0 Command: rm -rf ComplexHeatmap.buildbin-libdir && mkdir ComplexHeatmap.buildbin-libdir && /Users/biocbuild/BBS/utils/build-universal.sh ComplexHeatmap_2.22.0.tar.gz /Library/Frameworks/R.framework/Resources/bin/R ComplexHeatmap.buildbin-libdir StartedAt: 2025-02-04 12:42:44 -0500 (Tue, 04 Feb 2025) EndedAt: 2025-02-04 12:43:44 -0500 (Tue, 04 Feb 2025) EllapsedTime: 60.1 seconds RetCode: 0 Status: OK PackageFile: ComplexHeatmap_2.22.0.tgz PackageFileSize: 3.002 MiB