Package: ComplexHeatmap Version: 2.22.0 Command: F:\biocbuild\bbs-3.20-bioc\R\bin\R.exe CMD check --no-multiarch --install=check:ComplexHeatmap.install-out.txt --library=F:\biocbuild\bbs-3.20-bioc\R\library --no-vignettes --timings ComplexHeatmap_2.22.0.tar.gz StartedAt: 2025-02-04 00:33:19 -0500 (Tue, 04 Feb 2025) EndedAt: 2025-02-04 00:40:51 -0500 (Tue, 04 Feb 2025) EllapsedTime: 451.9 seconds RetCode: 0 Status: OK CheckDir: ComplexHeatmap.Rcheck Warnings: 0