Package: CompoundDb Version: 1.10.0 Command: rm -rf CompoundDb.buildbin-libdir && mkdir CompoundDb.buildbin-libdir && /Users/biocbuild/BBS/utils/build-universal.sh CompoundDb_1.10.0.tar.gz /Library/Frameworks/R.framework/Resources/bin/R CompoundDb.buildbin-libdir StartedAt: 2025-01-31 12:34:29 -0500 (Fri, 31 Jan 2025) EndedAt: 2025-01-31 12:35:19 -0500 (Fri, 31 Jan 2025) EllapsedTime: 50.0 seconds RetCode: 0 Status: OK PackageFile: CompoundDb_1.10.0.tgz PackageFileSize: 1.436 MiB