Package: CompoundDb Version: 1.10.0 Command: /Library/Frameworks/R.framework/Resources/bin/R CMD check --install=check:CompoundDb.install-out.txt --library=/Library/Frameworks/R.framework/Resources/library --no-vignettes --timings CompoundDb_1.10.0.tar.gz StartedAt: 2025-01-31 02:01:11 -0500 (Fri, 31 Jan 2025) EndedAt: 2025-01-31 02:06:48 -0500 (Fri, 31 Jan 2025) EllapsedTime: 336.7 seconds RetCode: 0 Status: OK CheckDir: CompoundDb.Rcheck Warnings: 0