Package: CompoundDb Version: 1.10.0 Command: /home/biocbuild/bbs-3.20-bioc/R/bin/R CMD check --install=check:CompoundDb.install-out.txt --library=/home/biocbuild/bbs-3.20-bioc/R/site-library --timings CompoundDb_1.10.0.tar.gz StartedAt: 2025-01-30 21:03:28 -0500 (Thu, 30 Jan 2025) EndedAt: 2025-01-30 21:06:11 -0500 (Thu, 30 Jan 2025) EllapsedTime: 163.1 seconds RetCode: 0 Status: OK CheckDir: CompoundDb.Rcheck Warnings: 0