Package: CompoundDb Version: 1.10.0 Command: F:\biocbuild\bbs-3.20-bioc\R\bin\R.exe CMD INSTALL CompoundDb StartedAt: 2025-01-30 16:49:39 -0500 (Thu, 30 Jan 2025) EndedAt: 2025-01-30 16:50:55 -0500 (Thu, 30 Jan 2025) EllapsedTime: 76.2 seconds RetCode: 0 Status: OK