Package: CompoundDb Version: 1.10.0 Command: /home/biocbuild/R/R/bin/R CMD build --keep-empty-dirs --no-resave-data CompoundDb StartedAt: 2025-01-30 22:47:35 -0000 (Thu, 30 Jan 2025) EndedAt: 2025-01-30 22:48:20 -0000 (Thu, 30 Jan 2025) EllapsedTime: 45.0 seconds RetCode: 0 Status: OK PackageFile: CompoundDb_1.10.0.tar.gz PackageFileSize: 1.428 MiB