Package: CopyNumberPlots Version: 1.22.0 Command: rm -rf CopyNumberPlots.buildbin-libdir && mkdir CopyNumberPlots.buildbin-libdir && /Users/biocbuild/BBS/utils/build-universal.sh CopyNumberPlots_1.22.0.tar.gz /Library/Frameworks/R.framework/Resources/bin/R CopyNumberPlots.buildbin-libdir StartedAt: 2025-02-05 15:22:34 -0500 (Wed, 05 Feb 2025) EndedAt: 2025-02-05 15:23:31 -0500 (Wed, 05 Feb 2025) EllapsedTime: 58.0 seconds RetCode: 0 Status: OK PackageFile: CopyNumberPlots_1.22.0.tgz PackageFileSize: 3.042 MiB