Package: CopyNumberPlots Version: 1.22.0 Command: /Library/Frameworks/R.framework/Resources/bin/R CMD build --keep-empty-dirs --no-resave-data CopyNumberPlots StartedAt: 2025-02-03 21:22:44 -0500 (Mon, 03 Feb 2025) EndedAt: 2025-02-03 21:24:34 -0500 (Mon, 03 Feb 2025) EllapsedTime: 110.6 seconds RetCode: 0 Status: OK PackageFile: CopyNumberPlots_1.22.0.tar.gz PackageFileSize: 2.911 MiB