Package: CopyNumberPlots
Version: 1.22.0
Command: rm -rf CopyNumberPlots.buildbin-libdir && mkdir CopyNumberPlots.buildbin-libdir && /Users/biocbuild/BBS/utils/build-universal.sh CopyNumberPlots_1.22.0.tar.gz /Library/Frameworks/R.framework/Resources/bin/R CopyNumberPlots.buildbin-libdir
StartedAt: 2024-11-20 04:20:52 -0500 (Wed, 20 Nov 2024)
EndedAt: 2024-11-20 04:22:00 -0500 (Wed, 20 Nov 2024)
EllapsedTime: 67.8 seconds
RetCode: 0
Status: OK
PackageFile: CopyNumberPlots_1.22.0.tgz
PackageFileSize: 3.023 <A href="http://en.wikipedia.org/wiki/MiB" target="_blank">MiB</A>