Package: CopyNumberPlots Version: 1.22.0 Command: rm -rf CopyNumberPlots.buildbin-libdir && mkdir CopyNumberPlots.buildbin-libdir && /Users/biocbuild/BBS/utils/build-universal.sh CopyNumberPlots_1.22.0.tar.gz /Library/Frameworks/R.framework/Resources/bin/R CopyNumberPlots.buildbin-libdir StartedAt: 2025-02-04 12:43:28 -0500 (Tue, 04 Feb 2025) EndedAt: 2025-02-04 12:45:07 -0500 (Tue, 04 Feb 2025) EllapsedTime: 99.6 seconds RetCode: 0 Status: OK PackageFile: CopyNumberPlots_1.22.0.tgz PackageFileSize: 3.023 MiB