Package: CopyNumberPlots Version: 1.22.0 Command: /Library/Frameworks/R.framework/Resources/bin/R CMD check --install=check:CopyNumberPlots.install-out.txt --library=/Library/Frameworks/R.framework/Resources/library --no-vignettes --timings CopyNumberPlots_1.22.0.tar.gz StartedAt: 2025-02-04 01:45:04 -0500 (Tue, 04 Feb 2025) EndedAt: 2025-02-04 01:56:45 -0500 (Tue, 04 Feb 2025) EllapsedTime: 701.2 seconds RetCode: 0 Status: OK CheckDir: CopyNumberPlots.Rcheck Warnings: 0