Package: CopyNumberPlots Version: 1.22.0 Command: rm -rf CopyNumberPlots.buildbin-libdir && mkdir CopyNumberPlots.buildbin-libdir && F:\biocbuild\bbs-3.20-bioc\R\bin\R.exe CMD INSTALL --build --library=CopyNumberPlots.buildbin-libdir CopyNumberPlots_1.22.0.tar.gz StartedAt: 2025-02-04 08:16:24 -0500 (Tue, 04 Feb 2025) EndedAt: 2025-02-04 08:18:09 -0500 (Tue, 04 Feb 2025) EllapsedTime: 105.4 seconds RetCode: 0 Status: OK PackageFile: CopyNumberPlots_1.22.0.zip PackageFileSize: 936.2 KiB