Package: CoreGx Version: 2.10.0 Command: /Library/Frameworks/R.framework/Resources/bin/R CMD build --keep-empty-dirs --no-resave-data CoreGx StartedAt: 2025-02-03 21:23:07 -0500 (Mon, 03 Feb 2025) EndedAt: 2025-02-03 21:24:16 -0500 (Mon, 03 Feb 2025) EllapsedTime: 69.2 seconds RetCode: 0 Status: OK PackageFile: CoreGx_2.10.0.tar.gz PackageFileSize: 1.364 MiB