Package: CoreGx Version: 2.10.0 Command: /Library/Frameworks/R.framework/Resources/bin/R CMD INSTALL CoreGx StartedAt: 2025-02-03 17:17:16 -0500 (Mon, 03 Feb 2025) EndedAt: 2025-02-03 17:18:01 -0500 (Mon, 03 Feb 2025) EllapsedTime: 44.2 seconds RetCode: 0 Status: OK