Package: CoreGx Version: 2.10.0 Command: /Library/Frameworks/R.framework/Resources/bin/R CMD INSTALL CoreGx StartedAt: 2025-02-03 16:22:12 -0500 (Mon, 03 Feb 2025) EndedAt: 2025-02-03 16:23:35 -0500 (Mon, 03 Feb 2025) EllapsedTime: 82.8 seconds RetCode: 0 Status: OK