Package: CoreGx Version: 2.10.0 Command: rm -rf CoreGx.buildbin-libdir && mkdir CoreGx.buildbin-libdir && F:\biocbuild\bbs-3.20-bioc\R\bin\R.exe CMD INSTALL --build --library=CoreGx.buildbin-libdir CoreGx_2.10.0.tar.gz StartedAt: 2025-02-04 08:16:28 -0500 (Tue, 04 Feb 2025) EndedAt: 2025-02-04 08:18:48 -0500 (Tue, 04 Feb 2025) EllapsedTime: 140.3 seconds RetCode: 0 Status: OK PackageFile: CoreGx_2.10.0.zip PackageFileSize: 2.432 MiB