Package: CoreGx Version: 2.10.0 Command: chmod a+r CoreGx -R && F:\biocbuild\bbs-3.20-bioc\R\bin\R.exe CMD build --keep-empty-dirs --no-resave-data CoreGx StartedAt: 2025-02-03 18:21:26 -0500 (Mon, 03 Feb 2025) EndedAt: 2025-02-03 18:23:10 -0500 (Mon, 03 Feb 2025) EllapsedTime: 104.6 seconds RetCode: 0 Status: OK PackageFile: CoreGx_2.10.0.tar.gz PackageFileSize: 1.364 MiB