Package: CoreGx Version: 2.10.0 Command: F:\biocbuild\bbs-3.20-bioc\R\bin\R.exe CMD check --no-multiarch --install=check:CoreGx.install-out.txt --library=F:\biocbuild\bbs-3.20-bioc\R\library --no-vignettes --timings CoreGx_2.10.0.tar.gz StartedAt: 2025-02-04 00:37:49 -0500 (Tue, 04 Feb 2025) EndedAt: 2025-02-04 00:46:16 -0500 (Tue, 04 Feb 2025) EllapsedTime: 507.4 seconds RetCode: 0 Status: OK CheckDir: CoreGx.Rcheck Warnings: 0