Package: CoreGx Version: 2.10.0 Command: /home/biocbuild/R/R/bin/R CMD build --keep-empty-dirs --no-resave-data CoreGx StartedAt: 2025-02-03 22:50:01 -0000 (Mon, 03 Feb 2025) EndedAt: 2025-02-03 22:51:09 -0000 (Mon, 03 Feb 2025) EllapsedTime: 68.0 seconds RetCode: 0 Status: OK PackageFile: CoreGx_2.10.0.tar.gz PackageFileSize: 1.387 MiB