Package: CoreGx Version: 2.10.0 Command: /home/biocbuild/R/R/bin/R CMD check --install=check:CoreGx.install-out.txt --library=/home/biocbuild/R/R/site-library --no-vignettes --timings CoreGx_2.10.0.tar.gz StartedAt: 2025-02-04 05:54:44 -0000 (Tue, 04 Feb 2025) EndedAt: 2025-02-04 06:03:26 -0000 (Tue, 04 Feb 2025) EllapsedTime: 521.4 seconds RetCode: 1 Status: ERROR CheckDir: CoreGx.Rcheck Warnings: NA