Package: CoreGx Version: 2.10.0 Command: /home/biocbuild/R/R/bin/R CMD INSTALL CoreGx StartedAt: 2025-02-03 21:07:12 -0000 (Mon, 03 Feb 2025) EndedAt: 2025-02-03 21:08:01 -0000 (Mon, 03 Feb 2025) EllapsedTime: 48.7 seconds RetCode: 0 Status: OK