Package: CuratedAtlasQueryR Version: 1.4.0 Command: /Library/Frameworks/R.framework/Resources/bin/R CMD check --install=check:CuratedAtlasQueryR.install-out.txt --library=/Library/Frameworks/R.framework/Resources/library --no-vignettes --timings CuratedAtlasQueryR_1.4.0.tar.gz StartedAt: 2025-02-04 16:45:54 -0500 (Tue, 04 Feb 2025) EndedAt: 2025-02-04 16:50:57 -0500 (Tue, 04 Feb 2025) EllapsedTime: 302.6 seconds RetCode: 0 Status: OK CheckDir: CuratedAtlasQueryR.Rcheck Warnings: 0