Package: CuratedAtlasQueryR Version: 1.4.0 Command: /home/biocbuild/R/R/bin/R CMD INSTALL CuratedAtlasQueryR StartedAt: 2024-11-19 21:12:56 -0000 (Tue, 19 Nov 2024) EndedAt: 2024-11-19 21:13:49 -0000 (Tue, 19 Nov 2024) EllapsedTime: 53.2 seconds RetCode: 0 Status: OK