Package: CuratedAtlasQueryR Version: 1.4.0 Command: /home/biocbuild/bbs-3.20-bioc/R/bin/R CMD build --keep-empty-dirs --no-resave-data --md5 CuratedAtlasQueryR StartedAt: 2025-02-03 17:02:52 -0500 (Mon, 03 Feb 2025) EndedAt: 2025-02-03 17:04:36 -0500 (Mon, 03 Feb 2025) EllapsedTime: 104.1 seconds RetCode: 0 Status: OK PackageFile: CuratedAtlasQueryR_1.4.0.tar.gz PackageFileSize: 978.6 KiB