Package: CyTOFpower Version: 1.12.0 Command: /home/biocbuild/bbs-3.20-bioc/R/bin/R CMD check --install=check:CyTOFpower.install-out.txt --library=/home/biocbuild/bbs-3.20-bioc/R/site-library --timings CyTOFpower_1.12.0.tar.gz StartedAt: 2025-02-03 21:29:35 -0500 (Mon, 03 Feb 2025) EndedAt: 2025-02-03 21:30:37 -0500 (Mon, 03 Feb 2025) EllapsedTime: 62.1 seconds RetCode: 1 Status: ERROR CheckDir: CyTOFpower.Rcheck Warnings: NA