Package: CyTOFpower Version: 1.12.0 Command: /home/biocbuild/bbs-3.20-bioc/R/bin/R CMD INSTALL CyTOFpower StartedAt: 2025-02-03 16:08:42 -0500 (Mon, 03 Feb 2025) EndedAt: 2025-02-03 16:08:48 -0500 (Mon, 03 Feb 2025) EllapsedTime: 6.1 seconds RetCode: 0 Status: OK