Package: CytoGLMM Version: 1.14.0 Command: /home/biocbuild/bbs-3.20-bioc/R/bin/R CMD check --install=check:CytoGLMM.install-out.txt --library=/home/biocbuild/bbs-3.20-bioc/R/site-library --timings CytoGLMM_1.14.0.tar.gz StartedAt: 2025-02-03 21:29:56 -0500 (Mon, 03 Feb 2025) EndedAt: 2025-02-03 21:33:38 -0500 (Mon, 03 Feb 2025) EllapsedTime: 222.2 seconds RetCode: 0 Status: OK CheckDir: CytoGLMM.Rcheck Warnings: 0