Package: CytoMDS Version: 1.2.0 Command: /Library/Frameworks/R.framework/Resources/bin/R CMD check --install=check:CytoMDS.install-out.txt --library=/Library/Frameworks/R.framework/Resources/library --no-vignettes --timings CytoMDS_1.2.0.tar.gz StartedAt: 2025-02-11 16:41:59 -0500 (Tue, 11 Feb 2025) EndedAt: 2025-02-11 16:48:41 -0500 (Tue, 11 Feb 2025) EllapsedTime: 402.5 seconds RetCode: 0 Status: OK CheckDir: CytoMDS.Rcheck Warnings: 0