Package: CytoMDS Version: 1.2.0 Command: /Library/Frameworks/R.framework/Resources/bin/R CMD INSTALL CytoMDS StartedAt: 2025-02-03 16:21:49 -0500 (Mon, 03 Feb 2025) EndedAt: 2025-02-03 16:22:20 -0500 (Mon, 03 Feb 2025) EllapsedTime: 30.6 seconds RetCode: 0 Status: OK