Package: CytoMDS Version: 1.2.0 Command: /home/biocbuild/bbs-3.20-bioc/R/bin/R CMD build --keep-empty-dirs --no-resave-data --md5 CytoMDS StartedAt: 2025-02-03 17:04:01 -0500 (Mon, 03 Feb 2025) EndedAt: 2025-02-03 17:06:41 -0500 (Mon, 03 Feb 2025) EllapsedTime: 160.2 seconds RetCode: 0 Status: OK PackageFile: CytoMDS_1.2.0.tar.gz PackageFileSize: 5.119 MiB