Package: CytoMDS Version: 1.2.0 Command: /home/biocbuild/bbs-3.20-bioc/R/bin/R CMD check --install=check:CytoMDS.install-out.txt --library=/home/biocbuild/bbs-3.20-bioc/R/site-library --timings CytoMDS_1.2.0.tar.gz StartedAt: 2025-02-03 21:30:28 -0500 (Mon, 03 Feb 2025) EndedAt: 2025-02-03 21:38:29 -0500 (Mon, 03 Feb 2025) EllapsedTime: 480.4 seconds RetCode: 0 Status: OK CheckDir: CytoMDS.Rcheck Warnings: 0