Package: CytoMDS Version: 1.2.0 Command: /home/biocbuild/bbs-3.20-bioc/R/bin/R CMD INSTALL CytoMDS StartedAt: 2025-02-03 15:52:28 -0500 (Mon, 03 Feb 2025) EndedAt: 2025-02-03 15:52:42 -0500 (Mon, 03 Feb 2025) EllapsedTime: 13.8 seconds RetCode: 0 Status: OK