Package: CytoMDS Version: 1.2.0 Command: chmod a+r CytoMDS -R && F:\biocbuild\bbs-3.20-bioc\R\bin\R.exe CMD build --keep-empty-dirs --no-resave-data CytoMDS StartedAt: 2025-02-03 18:28:23 -0500 (Mon, 03 Feb 2025) EndedAt: 2025-02-03 18:32:15 -0500 (Mon, 03 Feb 2025) EllapsedTime: 231.4 seconds RetCode: 0 Status: OK PackageFile: CytoMDS_1.2.0.tar.gz PackageFileSize: 2.712 MiB