Package: CytoMDS Version: 1.2.0 Command: /home/biocbuild/R/R/bin/R CMD build --keep-empty-dirs --no-resave-data CytoMDS StartedAt: 2025-02-03 22:58:36 -0000 (Mon, 03 Feb 2025) EndedAt: 2025-02-03 23:02:03 -0000 (Mon, 03 Feb 2025) EllapsedTime: 207.1 seconds RetCode: 0 Status: OK PackageFile: CytoMDS_1.2.0.tar.gz PackageFileSize: 3.2 MiB