Package: CytoMDS Version: 1.2.0 Command: /home/biocbuild/R/R/bin/R CMD INSTALL CytoMDS StartedAt: 2025-02-03 21:06:55 -0000 (Mon, 03 Feb 2025) EndedAt: 2025-02-03 21:07:14 -0000 (Mon, 03 Feb 2025) EllapsedTime: 18.4 seconds RetCode: 0 Status: OK