Package: CytoML Version: 2.18.1 Command: rm -rf CytoML.buildbin-libdir && mkdir CytoML.buildbin-libdir && /Users/biocbuild/BBS/utils/build-universal.sh CytoML_2.18.1.tar.gz /Library/Frameworks/R.framework/Resources/bin/R CytoML.buildbin-libdir StartedAt: 2025-02-05 15:29:08 -0500 (Wed, 05 Feb 2025) EndedAt: 2025-02-05 15:30:19 -0500 (Wed, 05 Feb 2025) EllapsedTime: 71.0 seconds RetCode: 0 Status: OK PackageFile: CytoML_2.18.1.tgz PackageFileSize: 9.172 MiB