Package: CytoML Version: 2.18.1 Command: /Library/Frameworks/R.framework/Resources/bin/R CMD build --keep-empty-dirs --no-resave-data CytoML StartedAt: 2025-02-10 22:03:46 -0500 (Mon, 10 Feb 2025) EndedAt: 2025-02-10 22:05:19 -0500 (Mon, 10 Feb 2025) EllapsedTime: 93.4 seconds RetCode: 0 Status: OK PackageFile: CytoML_2.18.1.tar.gz PackageFileSize: 8.572 MiB