Package: CytoML Version: 2.18.1 Command: /home/biocbuild/bbs-3.20-bioc/R/bin/R CMD build --keep-empty-dirs --no-resave-data --md5 CytoML StartedAt: 2025-02-03 17:04:14 -0500 (Mon, 03 Feb 2025) EndedAt: 2025-02-03 17:05:37 -0500 (Mon, 03 Feb 2025) EllapsedTime: 83.1 seconds RetCode: 0 Status: OK PackageFile: CytoML_2.18.1.tar.gz PackageFileSize: 8.053 MiB