Package: CytoML Version: 2.18.1 Command: /home/biocbuild/bbs-3.20-bioc/R/bin/R CMD INSTALL CytoML StartedAt: 2025-02-03 15:26:11 -0500 (Mon, 03 Feb 2025) EndedAt: 2025-02-03 15:27:07 -0500 (Mon, 03 Feb 2025) EllapsedTime: 56.6 seconds RetCode: 0 Status: OK