Package: CytoML Version: 2.18.1 Command: F:\biocbuild\bbs-3.20-bioc\R\bin\R.exe CMD check --no-multiarch --install=check:CytoML.install-out.txt --library=F:\biocbuild\bbs-3.20-bioc\R\library --no-vignettes --timings CytoML_2.18.1.tar.gz StartedAt: 2025-01-24 00:51:00 -0500 (Fri, 24 Jan 2025) EndedAt: 2025-01-24 00:55:28 -0500 (Fri, 24 Jan 2025) EllapsedTime: 268.2 seconds RetCode: 0 Status: WARNINGS CheckDir: CytoML.Rcheck Warnings: 4