Package: CytoML Version: 2.18.1 Command: /home/biocbuild/R/R/bin/R CMD INSTALL CytoML StartedAt: 2025-02-10 20:26:30 -0000 (Mon, 10 Feb 2025) EndedAt: 2025-02-10 20:27:49 -0000 (Mon, 10 Feb 2025) EllapsedTime: 79.0 seconds RetCode: 0 Status: OK